BEGIN:VCALENDAR
VERSION:2.0
PRODID:-//TYPO3/NONSGML Calendarize//EN


BEGIN:VEVENT
UID:calendarize-atverta-lekcija-tiesibu-normu-koliziju-risinasana
DTSTAMP:20260306T081013Z

DTSTART:20260316T103000Z
DTEND:20260316T120000Z
    
SUMMARY:Atvērtā lekcija "Tiesību normu kolīziju risināšana"
DESCRIPTION:Lekcijas tēma "Tiesību normu kolīziju risināšana".Profesionālā maģistra studiju programma  "Tiesību zinātne".\nLekcija notiks plkst. 12.30–14.00 (Aspazijas bulvāris 5\, 500. auditorija).Pieteikties lekcijai.Plašāka informācija par atvērtajām lekcijām.
X-ALT-DESC;FMTTYPE=text/html:<p>Lekcijas tēma "Tiesību normu kolīziju risināšana".<br /><br />Profesionālā maģistra studiju programma&nbsp\; "Tiesību zinātne".</p>\n<p>Lekcija notiks plkst. 12.30–14.00 (Aspazijas bulvāris 5\, 500. auditorija).<br /><br /><a href="https://forms.office.com/pages/responsepage.aspx?id=RE6EJpfSaECjKUUc6GIx8SDoiE7CMVZLihjv6MH77GRUREZHOTZEMkRNUk8xV1ZKMzhBUURZREkyUi4u&amp\;route=shorturl" target="_blank" rel="noreferrer"><strong>Pieteikties lekcijai.</strong></a><br /><br /><a href="https://www.lu.lv/gribustudet/atvertas-lekcijas/" target="_blank"><strong>Plašāka informācija par atvērtajām lekcijām.</strong></a></p>
LOCATION:Aspazijas bulvāris 5\, 500. auditorija
END:VEVENT

END:VCALENDAR