BEGIN:VCALENDAR
VERSION:2.0
PRODID:-//TYPO3/NONSGML Calendarize//EN


BEGIN:VEVENT
UID:calendarize-atverta-lekcija-situetiba-vesture-makslas-praksu-piemeros
DTSTAMP:20260306T075817Z

DTSTART:20260324T160000Z
DTEND:20260324T190000Z
    
SUMMARY:Atvērtā lekcija "Situētība vēsturē mākslas prakšu piemēros"
DESCRIPTION:Lekcijas tēma "Situētība vēsturē mākslas prakšu piemēros".Mākslinieki un mākslas prakses visos laikos mājojušas ne tikai noteiktā vēsturiskās retrospekcijas perspektīvā\, bet arī tās spiedienā. Nepastāv vēsturiski neitrāla mākslas prakse vai tajā darinātie mākslas darbi. Vēsturiskā situētība ir gan lokāla\, gan globāla - gan nacionāla\, gan internacionāla. Vēsturiskā situētība nozīmē arī ideoloģisko un pašas vēstures kā nāciju politisko disciplīnas naratīvu neizbēgamība. Māksla šajos sarežģītajos apstākļos ir šīs lekcijas tēma.Maģistra studiju programma “Mākslas un kultūras procesu dizains”.\nLekcija notiks plkst. 18.00–21.00 (Imantas 7.līnija 1\, 217.auditorija).Pieteikties lekcijai.Plašāka informācija par atvērtajām lekcijām.
X-ALT-DESC;FMTTYPE=text/html:<p>Lekcijas tēma "Situētība vēsturē mākslas prakšu piemēros".<br /><br />Mākslinieki un mākslas prakses visos laikos mājojušas ne tikai noteiktā vēsturiskās retrospekcijas perspektīvā\, bet arī tās spiedienā. Nepastāv vēsturiski neitrāla mākslas prakse vai tajā darinātie mākslas darbi. Vēsturiskā situētība ir gan lokāla\, gan globāla - gan nacionāla\, gan internacionāla. Vēsturiskā situētība nozīmē arī ideoloģisko un pašas vēstures kā nāciju politisko disciplīnas naratīvu neizbēgamība. Māksla šajos sarežģītajos apstākļos ir šīs lekcijas tēma.<br />Maģistra studiju programma “Mākslas un kultūras procesu dizains”.</p>\n<p>Lekcija notiks plkst. 18.00–21.00 (Imantas 7.līnija 1\, 217.auditorija).<br /><br /><a href="https://forms.office.com/pages/responsepage.aspx?id=RE6EJpfSaECjKUUc6GIx8SDoiE7CMVZLihjv6MH77GRUREZHOTZEMkRNUk8xV1ZKMzhBUURZREkyUi4u&amp\;route=shorturl" target="_blank" rel="noreferrer"><strong>Pieteikties lekcijai.</strong></a><br /><br /><a href="https://www.lu.lv/gribustudet/atvertas-lekcijas/" target="_blank"><strong>Plašāka informācija par atvērtajām lekcijām.</strong></a></p>
LOCATION:Imantas 7.līnija 1\, 217.auditorija
END:VEVENT

END:VCALENDAR