BEGIN:VCALENDAR
VERSION:2.0
PRODID:-//TYPO3/NONSGML Calendarize//EN


BEGIN:VEVENT
UID:calendarize-atverta-lekcija-lielo-datu-tehnologijas
DTSTAMP:20260305T153711Z

DTSTART:20260327T143000Z
DTEND:20260327T174500Z
    
SUMMARY:Atvērtā lekcija "Lielo datu tehnoloģijas"
DESCRIPTION:Lekcijas tēma "Lielo datu tehnoloģijas.".Atklātā lekcija tiek piedāvāta studija kursa "Lielo datu tehnoloģijas (6 ECTS) DatZM006"  ietvaros.Maģistra studiju programma "Datorzinātnes".\nLekcija notiks plkst. 16.30–19.45 (Raiņa bulv. 19\, 3.stāvs\, pa labi\, 12. auditorija).Pieteikties lekcijai.Plašāka informācija par atvērtajām lekcijām.
X-ALT-DESC;FMTTYPE=text/html:<p>Lekcijas tēma "Lielo datu tehnoloģijas.".<br /><br />Atklātā lekcija tiek piedāvāta studija kursa "Lielo datu tehnoloģijas (6 ECTS) DatZM006" &nbsp\;ietvaros.<br />Maģistra studiju programma "Datorzinātnes".</p>\n<p>Lekcija notiks plkst. 16.30–19.45 (Raiņa bulv. 19\, 3.stāvs\, pa labi\, 12. auditorija).<br /><br /><a href="https://forms.office.com/pages/responsepage.aspx?id=RE6EJpfSaECjKUUc6GIx8SDoiE7CMVZLihjv6MH77GRUREZHOTZEMkRNUk8xV1ZKMzhBUURZREkyUi4u&amp\;route=shorturl" target="_blank" rel="noreferrer"><strong>Pieteikties lekcijai.</strong></a><br /><br /><a href="https://www.lu.lv/gribustudet/atvertas-lekcijas/" target="_blank"><strong>Plašāka informācija par atvērtajām lekcijām.</strong></a></p>
LOCATION:Raiņa bulv. 19\, 3.stāvs\, pa labi\, 12. auditorija
END:VEVENT

END:VCALENDAR