BEGIN:VCALENDAR
VERSION:2.0
PRODID:-//TYPO3/NONSGML Calendarize//EN


BEGIN:VEVENT
UID:calendarize-atverta-lekcija-klimata-parmainas-un-adaptacija-daba-balstitu-risinajumu-potencials
DTSTAMP:20260305T142616Z

DTSTART:20260320T103000Z
DTEND:20260320T120000Z
    
SUMMARY:Atvērtā lekcija "Klimata pārmaiņas un adaptācija: dabā balstītu risinājumu potenciāls"
DESCRIPTION:Lekcijas tēma "Klimata pārmaiņas un adaptācija: dabā balstītu risinājumu potenciāls".Atklātā lekcija tiek piedāvāta studija kursa "GeogM013 Globālās pārmaiņas un adaptācija: hidroklimatiskie un bioģeogrāfiskie procesi" ietvaros.Maģistra studiju programma "Ģeogrāfija".\nLekcija notiks plkst. 12.30–14.00 (LU Dabas māja\, Jelgavas iela 1\, 327. auditorija).Pieteikties lekcijai.Plašāka informācija par atvērtajām lekcijām. 
X-ALT-DESC;FMTTYPE=text/html:<p>Lekcijas tēma "Klimata pārmaiņas un adaptācija: dabā balstītu risinājumu potenciāls".<br /><br />Atklātā lekcija tiek piedāvāta studija kursa "GeogM013 Globālās pārmaiņas un adaptācija: hidroklimatiskie un bioģeogrāfiskie procesi" ietvaros.<br />Maģistra studiju programma "Ģeogrāfija".</p>\n<p>Lekcija notiks plkst. 12.30–14.00 (LU Dabas māja\, Jelgavas iela 1\, 327. auditorija).<br /><br /><a href="https://forms.office.com/pages/responsepage.aspx?id=RE6EJpfSaECjKUUc6GIx8SDoiE7CMVZLihjv6MH77GRUREZHOTZEMkRNUk8xV1ZKMzhBUURZREkyUi4u&amp\;route=shorturl" target="_blank" rel="noreferrer"><strong>Pieteikties lekcijai.</strong></a><br /><br /><a href="https://www.lu.lv/gribustudet/atvertas-lekcijas/" target="_blank"><strong>Plašāka informācija par atvērtajām lekcijām.&nbsp\;</strong></a></p>
LOCATION:LU Dabas māja\, Jelgavas iela 1\, 327. auditorija
END:VEVENT

END:VCALENDAR