BEGIN:VCALENDAR
VERSION:2.0
PRODID:-//TYPO3/NONSGML Calendarize//EN


BEGIN:VEVENT
UID:calendarize-atverta-lekcija-kardiorespiratoro-funkciju-petijumu-metodes
DTSTAMP:20260306T081936Z

DTSTART:20260312T100000Z
DTEND:20260312T150000Z
    
SUMMARY:Atvērtā lekcija "Kardiorespiratoro funkciju pētījumu metodes"
DESCRIPTION:Lekcijas tēma "Kardiorespiratoro funkciju pētījumu metodes".Maģistra studiju programma “Sporta zinātne”.\nLekcija notiks plkst. 14.00–17.00 (LU Dabas māja\, 405. aud. (4. stāvs)\, Jelgavas iela 1).Pieteikties lekcijai.Plašāka informācija par atvērtajām lekcijām.
X-ALT-DESC;FMTTYPE=text/html:<p>Lekcijas tēma "Kardiorespiratoro funkciju pētījumu metodes".<br /><br />Maģistra studiju programma “Sporta zinātne”.</p>\n<p>Lekcija notiks plkst. 14.00–17.00 (LU Dabas māja\, 405. aud. (4. stāvs)\, Jelgavas iela 1).<br /><br /><a href="https://forms.office.com/pages/responsepage.aspx?id=RE6EJpfSaECjKUUc6GIx8SDoiE7CMVZLihjv6MH77GRUREZHOTZEMkRNUk8xV1ZKMzhBUURZREkyUi4u&amp\;route=shorturl" target="_blank" rel="noreferrer"><strong>Pieteikties lekcijai.</strong></a><br /><br /><a href="https://www.lu.lv/gribustudet/atvertas-lekcijas/" target="_blank"><strong>Plašāka informācija par atvērtajām lekcijām.</strong></a></p>
LOCATION:LU Dabas māja\, 405. aud. (4. stāvs)\, Jelgavas iela 1
END:VEVENT

END:VCALENDAR