BEGIN:VCALENDAR
VERSION:2.0
PRODID:-//TYPO3/NONSGML Calendarize//EN


BEGIN:VEVENT
UID:calendarize-atverta-lekcija-hermeneitikas-etoss
DTSTAMP:20260306T073540Z

DTSTART:20260318T143000Z
DTEND:20260318T160000Z
    
SUMMARY:Atvērtā lekcija "Hermeneitikas ētoss"
DESCRIPTION:Lekcijas tēma "Hermeneitikas ētoss".Atklātā lekcija tiek piedāvāta studiju kursa "Filozofija kā metode" ietvaros maģistra studiju programmā "Filozofija".\nLekcija notiks plkst. 16.30–18.00 (Visvalža iela 4a\, 317. telpa).Pieteikties lekcijai.Plašāka informācija par atvērtajām lekcijām.
X-ALT-DESC;FMTTYPE=text/html:<p>Lekcijas tēma "Hermeneitikas ētoss".<br /><br />Atklātā lekcija tiek piedāvāta studiju kursa "Filozofija kā metode" ietvaros maģistra studiju programmā "Filozofija".</p>\n<p>Lekcija notiks plkst. 16.30–18.00 (Visvalža iela 4a\, 317. telpa).<br /><br /><a href="https://forms.office.com/pages/responsepage.aspx?id=RE6EJpfSaECjKUUc6GIx8SDoiE7CMVZLihjv6MH77GRUREZHOTZEMkRNUk8xV1ZKMzhBUURZREkyUi4u&amp\;route=shorturl" target="_blank" rel="noreferrer"><strong>Pieteikties lekcijai.</strong></a><br /><br /><a href="https://www.lu.lv/gribustudet/atvertas-lekcijas/" target="_blank"><strong>Plašāka informācija par atvērtajām lekcijām.</strong></a></p>
LOCATION:Visvalža iela 4a\, 317. telpa
END:VEVENT

END:VCALENDAR