BEGIN:VCALENDAR
VERSION:2.0
PRODID:-//TYPO3/NONSGML Calendarize//EN


BEGIN:VEVENT
UID:calendarize-atverta-lekcija-darba-samaksa-darba-laiks-un-atputas-laiks
DTSTAMP:20260306T080236Z

DTSTART:20260310T161500Z
DTEND:20260310T174500Z
    
SUMMARY:Atvērtā lekcija "Darba samaksa\, darba laiks un atpūtas laiks"
DESCRIPTION:Lekcijas tēma "Darba samaksa\, darba laiks un atpūtas laiks".Maģistra studiju programma "Tiesības un organizāciju pārvaldība".\nLekcija notiks plkst. 18.15–19.45 (MS Teams).Pieteikties lekcijai.Plašāka informācija par atvērtajām lekcijām.
X-ALT-DESC;FMTTYPE=text/html:<p>Lekcijas tēma "Darba samaksa\, darba laiks un atpūtas laiks".<br /><br />Maģistra studiju programma "Tiesības un organizāciju pārvaldība".</p>\n<p>Lekcija notiks plkst. 18.15–19.45 (MS Teams).<br /><br /><a href="https://forms.office.com/pages/responsepage.aspx?id=RE6EJpfSaECjKUUc6GIx8SDoiE7CMVZLihjv6MH77GRUREZHOTZEMkRNUk8xV1ZKMzhBUURZREkyUi4u&amp\;route=shorturl" target="_blank" rel="noreferrer"><strong>Pieteikties lekcijai.</strong></a><br /><br /><a href="https://www.lu.lv/gribustudet/atvertas-lekcijas/" target="_blank"><strong>Plašāka informācija par atvērtajām lekcijām.</strong></a></p>
LOCATION:MS Teams
END:VEVENT

END:VCALENDAR