BEGIN:VCALENDAR
VERSION:2.0
PRODID:-//TYPO3/NONSGML Calendarize//EN


BEGIN:VEVENT
UID:calendarize-atverta-lekcija-budas-attelosanas-tradicijas
DTSTAMP:20260306T074613Z

DTSTART:20260324T161500Z
DTEND:20260324T174500Z
    
SUMMARY:Atvērtā lekcija "Budas attēlošanas tradīcijas"
DESCRIPTION:Lekcijas tēma "Budas attēlošanas tradīcijas".Budas attēlošanas tradīcija agrīnajā budismā: Mathūras\, Gandhāras skola. Budas attēlošanas kanoni. Budas attēla atribūti un specifika Dienvidaustrumāzijā\, Tibetā\, Ķīnā.Atklātā lekcija tiek piedāvāta studiju kursa "Budisms" ietvaros maģistra studiju programmā “Teoloģija un reliģijpētniecība”.\nLekcija notiks plkst. 18.15–19.45 (Visvalža iela 4a\, 103. telpa).Pieteikties lekcijai.Plašāka informācija par atvērtajām lekcijām.
X-ALT-DESC;FMTTYPE=text/html:<p>Lekcijas tēma "Budas attēlošanas tradīcijas".<br /><br />Budas attēlošanas tradīcija agrīnajā budismā: Mathūras\, Gandhāras skola. Budas attēlošanas kanoni. Budas attēla atribūti un specifika Dienvidaustrumāzijā\, Tibetā\, Ķīnā.<br />Atklātā lekcija tiek piedāvāta studiju kursa "Budisms" ietvaros maģistra studiju programmā “Teoloģija un reliģijpētniecība”.</p>\n<p>Lekcija notiks plkst. 18.15–19.45 (Visvalža iela 4a\, 103. telpa).<br /><br /><a href="https://forms.office.com/pages/responsepage.aspx?id=RE6EJpfSaECjKUUc6GIx8SDoiE7CMVZLihjv6MH77GRUREZHOTZEMkRNUk8xV1ZKMzhBUURZREkyUi4u&amp\;route=shorturl" target="_blank" rel="noreferrer"><strong>Pieteikties lekcijai.</strong></a><br /><br /><a href="https://www.lu.lv/gribustudet/atvertas-lekcijas/" target="_blank"><strong>Plašāka informācija par atvērtajām lekcijām.</strong></a></p>
LOCATION:Visvalža iela 4a\, 103. telpa
END:VEVENT

END:VCALENDAR